BEGIN:VCALENDAR
VERSION:2.0
CALSCALE:GREGORIAN
PRODID:adamgibbons/ics
METHOD:PUBLISH
X-PUBLISHED-TTL:PT1H
BEGIN:VEVENT
UID:649@chicagol.askapunk.net
SUMMARY:Peace Talks\, Consensus Madness\, Navaja\, Baragon
DTSTAMP:20260421T072431Z
DTSTART:20260503T000000Z
DTEND:20260503T030000Z
URL:https://chicago.askapunk.net/event/peace-talks-consensus-madness-navaja
	-baragon
LOCATION:Grindhouse Cafe (Highland) - 3805 Ridge Rd. Highland\, IN 46322
STATUS:CONFIRMED
CATEGORIES:Consensus Madness,Hardcore,Hardcore Punk,NWI,Navaja,baragon,peac
	e talks,punk
END:VEVENT
END:VCALENDAR
