BEGIN:VCALENDAR
VERSION:2.0
CALSCALE:GREGORIAN
PRODID:adamgibbons/ics
METHOD:PUBLISH
X-PUBLISHED-TTL:PT1H
BEGIN:VEVENT
UID:600@chicagol.askapunk.net
SUMMARY:FUCKING GUDON in Chicago
DTSTAMP:20260421T043613Z
DTSTART:20260507T230000Z
URL:https://chicago.askapunk.net/event/fucking-gudon-in-chicago
LOCATION:Casa Cafe - 2025 s western ave
STATUS:CONFIRMED
CATEGORIES:Disrobe,Gudon,Home Invasion,Mock Execution,Ritual Cross
END:VEVENT
BEGIN:VEVENT
UID:568@chicagol.askapunk.net
SUMMARY:BETON ARME\, Fuerza Bruta\, Home Invasion
DTSTAMP:20260421T043613Z
DTSTART:20260516T000000Z
DTEND:20260516T040000Z
URL:https://chicago.askapunk.net/event/beton-arme-fuerza-bruta-home-invasio
	n
LOCATION:Casa Cafe - 2025 s western ave
STATUS:CONFIRMED
CATEGORIES:Beton Arme,Fuerza Bruta,Home Invasion,casa cafe
END:VEVENT
BEGIN:VEVENT
UID:681@chicagol.askapunk.net
SUMMARY:Bleached Cross\, CUSS\, Illusion Of Choice & left of heaven
DTSTAMP:20260421T043614Z
DTSTART:20260605T000000Z
DTEND:20260605T033000Z
URL:https://chicago.askapunk.net/event/bleached-cross-cuss-illusion-of-choi
	ce-and-left-of-heaven
LOCATION:Casa Cafe - 2025 s western ave
STATUS:CONFIRMED
CATEGORIES:
END:VEVENT
END:VCALENDAR
