BEGIN:VCALENDAR
VERSION:2.0
CALSCALE:GREGORIAN
PRODID:adamgibbons/ics
METHOD:PUBLISH
X-PUBLISHED-TTL:PT1H
BEGIN:VEVENT
UID:567@chicagol.askapunk.net
SUMMARY:ROTARY CLUB
DTSTAMP:20260419T133815Z
DTSTART:20260509T000000Z
DTEND:20260509T040000Z
URL:https://chicago.askapunk.net/event/rotary-club
LOCATION:Gallery Cabaret - 2020 N Oakley
STATUS:CONFIRMED
CATEGORIES:Consensus Madness,Gallery Cabaret,Ritual Cross,Rotary Club,cel r
	ay
END:VEVENT
END:VCALENDAR
