BEGIN:VCALENDAR
VERSION:2.0
CALSCALE:GREGORIAN
PRODID:adamgibbons/ics
METHOD:PUBLISH
X-PUBLISHED-TTL:PT1H
BEGIN:VEVENT
UID:654@chicagol.askapunk.net
SUMMARY:No Knock in NWI
DTSTAMP:20260421T072307Z
DTSTART:20260506T000000Z
URL:https://chicago.askapunk.net/event/no-knock-in-nwi
LOCATION:Paul Henry's Art Gallery - 416 Sibley Street Hammond Indiana
STATUS:CONFIRMED
CATEGORIES:
END:VEVENT
END:VCALENDAR
